1.0000000000
0.0000000000
0.0000000000
-1.0000000000
526870.5000000000
4254729.5000000000
