1.0000000000
0.0000000000
0.0000000000
-1.0000000000
521420.5000000000
4254709.5000000000
