1.0000000000
0.0000000000
0.0000000000
-1.0000000000
515950.5000000000
4261629.5000000000
