1.0000000000
0.0000000000
0.0000000000
-1.0000000000
510500.5000000000
4261619.5000000000
