BEGIN_USGS_DOQ_HEADER *
QUADRANGLE_NAME "SEBASTOPOL" *
QUADRANT NW *
WEST_LONGITUDE -122 52 30.0 *
EAST_LONGITUDE -122 48 45.0 *
NORTH_LATITUDE 38 30 0.0 *
SOUTH_LATITUDE 38 26 15.0 *
PRODUCTION_DATE 1997 9 16 *
RASTER_ORDER LEFT_RIGHT/TOP_BOTTOM *
BAND_ORGANIZATION "SINGLE FILE" *
BAND_CONTENT BLACK&WHITE *
BITS_PER_PIXEL 8 *
SAMPLES_AND_LINES 6171 7571 *
HORIZONTAL_DATUM NAD83 *
HORIZONTAL_COORDINATE_SYSTEM UTM *
COORDINATE_ZONE 10 *
HORIZONTAL_UNITS METERS *
HORIZONTAL_RESOLUTION 1.0 *
SECONDARY_HORIZONTAL_DATUM NAD27 *
XY_ORIGIN 510500.000 4261620.000 *
SECONDARY_XY_ORIGIN 510596.586 4261423.060 *
NATION US *
STATE CA *
NW_QUAD_CORNER_XY 510899.736 4261300.828 *
NE_QUAD_CORNER_XY 516349.608 4261310.080 *
SE_QUAD_CORNER_XY 516363.726 4254375.012 *
SW_QUAD_CORNER_XY 510909.148 4254365.765 *
SECONDARY_NW_QUAD_XY 510900.012 4261093.983 *
SECONDARY_NE_QUAD_XY 516350.022 4261103.235 *
SECONDARY_SE_QUAD_XY 516364.140 4254168.309 *
SECONDARY_SW_QUAD_XY 510909.424 4254159.062 *
RMSE_XY 1.189 *
IMAGE_SOURCE "Black and White film" *
SOURCE_IMAGE_ID "NAPP 6362-34" *
SOURCE_IMAGE_DATE 1993 7 11 *
SOURCE_DEM_DATE 1983 7 1 *
AGENCY "WESTERN MAPPING CENTER (WMC)" *
PRODUCER "Hammon, Jensen, Wallen & Associates" *
PRODUCTION_SYSTEM "ORTHOVIEW" *
STANDARD_VERSION 1996 12 *
METADATA_DATE 1997 9 16 *
DATA_FILE_SIZE 46726812 *
BYTE_COUNT 6171 * * * * * * * * * * * * * * * * * * * * * * * * * * * * * * * * * * *
END_USGS_HEADER *
