BEGIN_USGS_DOQ_HEADER *
QUADRANGLE_NAME "SEBASTOPOL" *
QUADRANT SW *
WEST_LONGITUDE -122 52 30.0 *
EAST_LONGITUDE -122 48 45.0 *
NORTH_LATITUDE 38 26 15.0 *
SOUTH_LATITUDE 38 22 30.0 *
PRODUCTION_DATE 1997 9 16 *
RASTER_ORDER LEFT_RIGHT/TOP_BOTTOM *
BAND_ORGANIZATION "SINGLE FILE" *
BAND_CONTENT BLACK&WHITE *
BITS_PER_PIXEL 8 *
SAMPLES_AND_LINES 6171 7561 *
HORIZONTAL_DATUM NAD83 *
HORIZONTAL_COORDINATE_SYSTEM UTM *
COORDINATE_ZONE 10 *
HORIZONTAL_UNITS METERS *
HORIZONTAL_RESOLUTION 1.0 *
SECONDARY_HORIZONTAL_DATUM NAD27 *
XY_ORIGIN 510510.000 4254680.000 *
SECONDARY_XY_ORIGIN 510606.698 4254483.041 *
NATION US *
STATE CA *
NW_QUAD_CORNER_XY 510909.148 4254365.765 *
NE_QUAD_CORNER_XY 516363.726 4254375.012 *
SE_QUAD_CORNER_XY 516377.825 4247440.017 *
SW_QUAD_CORNER_XY 510918.547 4247430.775 *
SECONDARY_NW_QUAD_XY 510909.424 4254159.062 *
SECONDARY_NE_QUAD_XY 516364.140 4254168.309 *
SECONDARY_SE_QUAD_XY 516378.238 4247233.459 *
SECONDARY_SW_QUAD_XY 510918.823 4247224.216 *
RMSE_XY 1.884 *
IMAGE_SOURCE "Black and White film" *
SOURCE_IMAGE_ID "NAPP 6362-36" *
SOURCE_IMAGE_DATE 1993 7 11 *
SOURCE_DEM_DATE 1983 7 1 *
AGENCY "WESTERN MAPPING CENTER (WMC)" *
PRODUCER "Hammon, Jensen, Wallen & Associates" *
PRODUCTION_SYSTEM "ORTHOVIEW" *
STANDARD_VERSION 1996 12 *
METADATA_DATE 1997 9 16 *
DATA_FILE_SIZE 46665102 *
BYTE_COUNT 6171 * * * * * * * * * * * * * * * * * * * * * * * * * * * * * * * * * * *
END_USGS_HEADER *
