BEGIN_USGS_DOQ_HEADER *
QUADRANGLE_NAME "CAMP MEEKER" *
QUADRANT NW *
WEST_LONGITUDE -123 0 0.0 *
EAST_LONGITUDE -122 56 15.0 *
NORTH_LATITUDE 38 30 0.0 *
SOUTH_LATITUDE 38 26 15.0 *
PRODUCTION_DATE 1997 9 16 *
RASTER_ORDER LEFT_RIGHT/TOP_BOTTOM *
BAND_ORGANIZATION "SINGLE FILE" *
BAND_CONTENT BLACK&WHITE *
BITS_PER_PIXEL 8 *
SAMPLES_AND_LINES 6161 7561 *
HORIZONTAL_DATUM NAD83 *
HORIZONTAL_COORDINATE_SYSTEM UTM *
COORDINATE_ZONE 10 *
HORIZONTAL_UNITS METERS *
HORIZONTAL_RESOLUTION 1.0 *
SECONDARY_HORIZONTAL_DATUM NAD27 *
XY_ORIGIN 499600.000 4261600.000 *
SECONDARY_XY_ORIGIN 499696.824 4261402.785 *
NATION US *
STATE CA *
NW_QUAD_CORNER_XY 500000.000 4261293.427 *
NE_QUAD_CORNER_XY 505449.867 4261295.277 *
SE_QUAD_CORNER_XY 505454.573 4254360.216 *
SW_QUAD_CORNER_XY 500000.000 4254358.367 *
SECONDARY_NW_QUAD_XY 500000.000 4261086.581 *
SECONDARY_NE_QUAD_XY 505450.005 4261088.431 *
SECONDARY_SE_QUAD_XY 505454.711 4254153.513 *
SECONDARY_SW_QUAD_XY 500000.000 4254151.664 *
RMSE_XY 3.698 *
IMAGE_SOURCE "Black and White film" *
SOURCE_IMAGE_ID "NAPP 6364-119" *
SOURCE_IMAGE_DATE 1993 7 13 *
SOURCE_DEM_DATE 1983 7 1 *
AGENCY "WESTERN MAPPING CENTER (WMC)" *
PRODUCER "Hammon, Jensen, Wallen & Associates" *
PRODUCTION_SYSTEM "ORTHOVIEW" *
STANDARD_VERSION 1996 12 *
METADATA_DATE 1997 9 16 *
DATA_FILE_SIZE 46589482 *
BYTE_COUNT 6161 * * * * * * * * * * * * * * * * * * * * * * * * * * * * * * * * * *
END_USGS_HEADER *
