1.0000000000
0.0000000000
0.0000000000
-1.0000000000
505050.5000000000
4254669.5000000000
