BEGIN_USGS_DOQ_HEADER *
QUADRANGLE_NAME "CAMP MEEKER" *
QUADRANT SE *
WEST_LONGITUDE -122 56 15.0 *
EAST_LONGITUDE -122 52 30.0 *
NORTH_LATITUDE 38 26 15.0 *
SOUTH_LATITUDE 38 22 30.0 *
PRODUCTION_DATE 1997 9 16 *
RASTER_ORDER LEFT_RIGHT/TOP_BOTTOM *
BAND_ORGANIZATION "SINGLE FILE" *
BAND_CONTENT BLACK&WHITE *
BITS_PER_PIXEL 8 *
SAMPLES_AND_LINES 6171 7561 *
HORIZONTAL_DATUM NAD83 *
HORIZONTAL_COORDINATE_SYSTEM UTM *
COORDINATE_ZONE 10 *
HORIZONTAL_UNITS METERS *
HORIZONTAL_RESOLUTION 1.0 *
SECONDARY_HORIZONTAL_DATUM NAD27 *
XY_ORIGIN 505050.000 4254670.000 *
SECONDARY_XY_ORIGIN 505146.818 4254472.912 *
NATION US *
STATE CA *
NW_QUAD_CORNER_XY 505454.573 4254360.216 *
NE_QUAD_CORNER_XY 510909.148 4254365.765 *
SE_QUAD_CORNER_XY 510918.547 4247430.775 *
SW_QUAD_CORNER_XY 505459.273 4247425.229 *
SECONDARY_NW_QUAD_XY 505454.711 4254153.513 *
SECONDARY_NE_QUAD_XY 510909.424 4254159.062 *
SECONDARY_SE_QUAD_XY 510918.823 4247224.216 *
SECONDARY_SW_QUAD_XY 505459.411 4247218.671 *
RMSE_XY 1.615 *
IMAGE_SOURCE "Black and White film" *
SOURCE_IMAGE_ID "NAPP 6362-39" *
SOURCE_IMAGE_DATE 1993 7 11 *
SOURCE_DEM_DATE 1983 7 1 *
AGENCY "WESTERN MAPPING CENTER (WMC)" *
PRODUCER "Hammon, Jensen, Wallen & Associates" *
PRODUCTION_SYSTEM "ORTHOVIEW" *
STANDARD_VERSION 1996 12 *
METADATA_DATE 1997 9 16 *
DATA_FILE_SIZE 46665102 *
BYTE_COUNT 6171 * * * * * * * * * * * * * * * * * * * * * * * * * * * * * * * * * * *
END_USGS_HEADER *
