1.0000000000
0.0000000000
0.0000000000
-1.0000000000
575771.5000000000
4275880.5000000000
