1.0000000000
0.0000000000
0.0000000000
-1.0000000000
581282.5000000000
4269002.5000000000
