1.0000000000
0.0000000000
0.0000000000
-1.0000000000
575837.5000000000
4268945.5000000000
