1.0000000000
0.0000000000
0.0000000000
-1.0000000000
526800.5000000000
4275539.5000000000
