BEGIN_USGS_DOQ_HEADER *
QUADRANGLE_NAME "MARK WEST SPRINGS" *
QUADRANT SE *
WEST_LONGITUDE -122 41 15.0 *
EAST_LONGITUDE -122 37 30.0 *
NORTH_LATITUDE 38 33 45.0 *
SOUTH_LATITUDE 38 30 0.0 *
PRODUCTION_DATE 1997 9 16 *
RASTER_ORDER LEFT_RIGHT/TOP_BOTTOM *
BAND_ORGANIZATION "SINGLE FILE" *
BAND_CONTENT BLACK&WHITE *
BITS_PER_PIXEL 8 *
SAMPLES_AND_LINES 6171 7581 *
HORIZONTAL_DATUM NAD83 *
HORIZONTAL_COORDINATE_SYSTEM UTM *
COORDINATE_ZONE 10 *
HORIZONTAL_UNITS METERS *
HORIZONTAL_RESOLUTION 1.0 *
SECONDARY_HORIZONTAL_DATUM NAD27 *
XY_ORIGIN 526830.000 4268600.000 *
SECONDARY_XY_ORIGIN 526926.293 4268403.421 *
NATION US *
STATE CA *
NW_QUAD_CORNER_XY 527225.803 4268274.845 *
NE_QUAD_CORNER_XY 532670.979 4268295.210 *
SE_QUAD_CORNER_XY 532699.256 4261360.042 *
SW_QUAD_CORNER_XY 527249.366 4261339.687 *
SECONDARY_NW_QUAD_XY 527226.493 4268067.857 *
SECONDARY_NE_QUAD_XY 532671.808 4268088.223 *
SECONDARY_SE_QUAD_XY 532700.083 4261153.197 *
SECONDARY_SW_QUAD_XY 527250.056 4261132.842 *
RMSE_XY 1.083 *
IMAGE_SOURCE "Black and White film" *
SOURCE_IMAGE_ID "NAPP 6361-35" *
SOURCE_IMAGE_DATE 1993 7 10 *
SOURCE_DEM_DATE 1993 1 1 *
AGENCY "WESTERN MAPPING CENTER (WMC)" *
PRODUCER "Hammon, Jensen, Wallen & Associates" *
PRODUCTION_SYSTEM "ORTHOVIEW" *
STANDARD_VERSION 1996 12 *
METADATA_DATE 1997 9 16 *
DATA_FILE_SIZE 46788522 *
BYTE_COUNT 6171 * * * * * * * * * * * * * * * * * * * * * * * * * * * * * * * * * * *
END_USGS_HEADER *
