1.0000000000
0.0000000000
0.0000000000
-1.0000000000
521380.5000000000
4268579.5000000000
