BEGIN_USGS_DOQ_HEADER *
QUADRANGLE_NAME "MARK WEST SPRINGS" *
QUADRANT SW *
WEST_LONGITUDE -122 45 0.0 *
EAST_LONGITUDE -122 41 15.0 *
NORTH_LATITUDE 38 33 45.0 *
SOUTH_LATITUDE 38 30 0.0 *
PRODUCTION_DATE 1997 9 16 *
RASTER_ORDER LEFT_RIGHT/TOP_BOTTOM *
BAND_ORGANIZATION "SINGLE FILE" *
BAND_CONTENT BLACK&WHITE *
BITS_PER_PIXEL 8 *
SAMPLES_AND_LINES 6171 7571 *
HORIZONTAL_DATUM NAD83 *
HORIZONTAL_COORDINATE_SYSTEM UTM *
COORDINATE_ZONE 10 *
HORIZONTAL_UNITS METERS *
HORIZONTAL_RESOLUTION 1.0 *
SECONDARY_HORIZONTAL_DATUM NAD27 *
XY_ORIGIN 521380.000 4268580.000 *
SECONDARY_XY_ORIGIN 521476.342 4268383.290 *
NATION US *
STATE CA *
NW_QUAD_CORNER_XY 521780.633 4268258.183 *
NE_QUAD_CORNER_XY 527225.803 4268274.845 *
SE_QUAD_CORNER_XY 527249.366 4261339.687 *
SW_QUAD_CORNER_XY 521799.484 4261323.033 *
SECONDARY_NW_QUAD_XY 521781.186 4268051.195 *
SECONDARY_NE_QUAD_XY 527226.493 4268067.857 *
SECONDARY_SE_QUAD_XY 527250.056 4261132.842 *
SECONDARY_SW_QUAD_XY 521800.036 4261116.188 *
RMSE_XY 1.322 *
IMAGE_SOURCE "Black and White film" *
SOURCE_IMAGE_ID "NAPP 6361-78" *
SOURCE_IMAGE_DATE 1993 7 10 *
SOURCE_DEM_DATE 1993 1 1 *
AGENCY "WESTERN MAPPING CENTER (WMC)" *
PRODUCER "Hammon, Jensen, Wallen & Associates" *
PRODUCTION_SYSTEM "ORTHOVIEW" *
STANDARD_VERSION 1996 12 *
METADATA_DATE 1997 9 16 *
DATA_FILE_SIZE 46726812 *
BYTE_COUNT 6171 * * * * * * * * * * * * * * * * * * * * * * * * * * * * * * * * * * *
END_USGS_HEADER *
