1.0000000000
0.0000000000
0.0000000000
-1.0000000000
515920.5000000000
4275499.5000000000
