1.0000000000
0.0000000000
0.0000000000
-1.0000000000
515930.5000000000
4268559.5000000000
