1.0000000000
0.0000000000
0.0000000000
-1.0000000000
510490.5000000000
4268549.5000000000
