BEGIN_USGS_DOQ_HEADER *
QUADRANGLE_NAME "HEALDSBURG" *
QUADRANT SW *
WEST_LONGITUDE -122 52 30.0 *
EAST_LONGITUDE -122 48 45.0 *
NORTH_LATITUDE 38 33 45.0 *
SOUTH_LATITUDE 38 30 0.0 *
PRODUCTION_DATE 1997 11 4 *
RASTER_ORDER LEFT_RIGHT/TOP_BOTTOM *
BAND_ORGANIZATION "SINGLE FILE" *
BAND_CONTENT BLACK&WHITE *
BITS_PER_PIXEL 8 *
SAMPLES_AND_LINES 6161 7561 *
HORIZONTAL_DATUM NAD83 *
HORIZONTAL_COORDINATE_SYSTEM UTM *
COORDINATE_ZONE 10 *
HORIZONTAL_UNITS METERS *
HORIZONTAL_RESOLUTION 1.0 *
SECONDARY_HORIZONTAL_DATUM NAD27 *
XY_ORIGIN 510490.000 4268550.000 *
SECONDARY_XY_ORIGIN 510586.552 4268353.014 *
NATION US *
STATE CA *
NW_QUAD_CORNER_XY 510890.311 4268235.967 *
NE_QUAD_CORNER_XY 516335.470 4268245.223 *
SE_QUAD_CORNER_XY 516349.608 4261310.080 *
SW_QUAD_CORNER_XY 510899.736 4261300.828 *
SECONDARY_NW_QUAD_XY 510890.587 4268028.978 *
SECONDARY_NE_QUAD_XY 516335.884 4268038.235 *
SECONDARY_SE_QUAD_XY 516350.022 4261103.235 *
SECONDARY_SW_QUAD_XY 510900.012 4261093.983 *
RMSE_XY 1.252 *
IMAGE_SOURCE "Black and White film" *
SOURCE_IMAGE_ID "NAPP 6362-32" *
SOURCE_IMAGE_DATE 1993 7 11 *
SOURCE_DEM_DATE 1993 1 1 *
AGENCY "WESTERN MAPPING CENTER (WMC)" *
PRODUCER "Hammon, Jensen, Wallen & Associates" *
PRODUCTION_SYSTEM "ORTHOVIEW" *
STANDARD_VERSION 1996 12 *
METADATA_DATE 1997 11 4 *
DATA_FILE_SIZE 46589482 *
BYTE_COUNT 6161 * * * * * * * * * * * * * * * * * * * * * * * * * * * * * * * * * *
END_USGS_HEADER *
