BEGIN_USGS_DOQ_HEADER *
QUADRANGLE_NAME "GUERNEVILLE" *
QUADRANT NW *
WEST_LONGITUDE -123 0 0.0 *
EAST_LONGITUDE -122 56 15.0 *
NORTH_LATITUDE 38 37 30.0 *
SOUTH_LATITUDE 38 33 45.0 *
PRODUCTION_DATE 1997 9 17 *
RASTER_ORDER LEFT_RIGHT/TOP_BOTTOM *
BAND_ORGANIZATION "SINGLE FILE" *
BAND_CONTENT BLACK&WHITE *
BITS_PER_PIXEL 8 *
SAMPLES_AND_LINES 6151 7561 *
HORIZONTAL_DATUM NAD83 *
HORIZONTAL_COORDINATE_SYSTEM UTM *
COORDINATE_ZONE 10 *
HORIZONTAL_UNITS METERS *
HORIZONTAL_RESOLUTION 1.0 *
SECONDARY_HORIZONTAL_DATUM NAD27 *
XY_ORIGIN 499600.000 4275470.000 *
SECONDARY_XY_ORIGIN 499696.695 4275272.696 *
NATION US *
STATE CA *
NW_QUAD_CORNER_XY 500000.000 4275163.770 *
NE_QUAD_CORNER_XY 505440.436 4275165.622 *
SE_QUAD_CORNER_XY 505445.155 4268230.413 *
SW_QUAD_CORNER_XY 500000.000 4268228.561 *
SECONDARY_NW_QUAD_XY 500000.000 4274956.640 *
SECONDARY_NE_QUAD_XY 505440.574 4274958.492 *
SECONDARY_SE_QUAD_XY 505445.293 4268023.424 *
SECONDARY_SW_QUAD_XY 500000.000 4268021.573 *
RMSE_XY 1.004 *
IMAGE_SOURCE "Black and White film" *
SOURCE_IMAGE_ID "NAPP 6365-4" *
SOURCE_IMAGE_DATE 1993 8 25 *
SOURCE_DEM_DATE 1993 1 1 *
AGENCY "WESTERN MAPPING CENTER (WMC)" *
PRODUCER "Hammon, Jensen, Wallen & Associates" *
PRODUCTION_SYSTEM "ORTHOVIEW" *
STANDARD_VERSION 1996 12 *
METADATA_DATE 1997 9 17 *
DATA_FILE_SIZE 46513862 *
BYTE_COUNT 6151 * * * * * * * * * * * * * * * * * * * * * * * * * * * * * * * * * *
END_USGS_HEADER *
