1.0000000000
0.0000000000
0.0000000000
-1.0000000000
505040.5000000000
4268539.5000000000
