BEGIN_USGS_DOQ_HEADER *
QUADRANGLE_NAME "GUERNEVILLE" *
QUADRANT SE *
WEST_LONGITUDE -122 56 15.0 *
EAST_LONGITUDE -122 52 30.0 *
NORTH_LATITUDE 38 33 45.0 *
SOUTH_LATITUDE 38 30 0.0 *
PRODUCTION_DATE 1997 9 17 *
RASTER_ORDER LEFT_RIGHT/TOP_BOTTOM *
BAND_ORGANIZATION "SINGLE FILE" *
BAND_CONTENT BLACK&WHITE *
BITS_PER_PIXEL 8 *
SAMPLES_AND_LINES 6161 7561 *
HORIZONTAL_DATUM NAD83 *
HORIZONTAL_COORDINATE_SYSTEM UTM *
COORDINATE_ZONE 10 *
HORIZONTAL_UNITS METERS *
HORIZONTAL_RESOLUTION 1.0 *
SECONDARY_HORIZONTAL_DATUM NAD27 *
XY_ORIGIN 505040.000 4268540.000 *
SECONDARY_XY_ORIGIN 505136.658 4268342.875 *
NATION US *
STATE CA *
NW_QUAD_CORNER_XY 505445.155 4268230.413 *
NE_QUAD_CORNER_XY 510890.311 4268235.967 *
SE_QUAD_CORNER_XY 510899.736 4261300.828 *
SW_QUAD_CORNER_XY 505449.867 4261295.277 *
SECONDARY_NW_QUAD_XY 505445.293 4268023.424 *
SECONDARY_NE_QUAD_XY 510890.587 4268028.978 *
SECONDARY_SE_QUAD_XY 510900.012 4261093.983 *
SECONDARY_SW_QUAD_XY 505450.005 4261088.431 *
RMSE_XY 1.202 *
IMAGE_SOURCE "Black and White film" *
SOURCE_IMAGE_ID "NAPP 6362-43" *
SOURCE_IMAGE_DATE 1993 7 11 *
SOURCE_DEM_DATE 1993 1 1 *
AGENCY "WESTERN MAPPING CENTER (WMC)" *
PRODUCER "Hammon, Jensen, Wallen & Associates" *
PRODUCTION_SYSTEM "ORTHOVIEW" *
STANDARD_VERSION 1996 12 *
METADATA_DATE 1997 9 17 *
DATA_FILE_SIZE 46589482 *
BYTE_COUNT 6161 * * * * * * * * * * * * * * * * * * * * * * * * * * * * * * * * * *
END_USGS_HEADER *
