BEGIN_USGS_DOQ_HEADER *
QUADRANGLE_NAME "GUERNEVILLE" *
QUADRANT SW *
WEST_LONGITUDE -123 0 0.0 *
EAST_LONGITUDE -122 56 15.0 *
NORTH_LATITUDE 38 33 45.0 *
SOUTH_LATITUDE 38 30 0.0 *
PRODUCTION_DATE 1997 11 4 *
RASTER_ORDER LEFT_RIGHT/TOP_BOTTOM *
BAND_ORGANIZATION "SINGLE FILE" *
BAND_CONTENT BLACK&WHITE *
BITS_PER_PIXEL 8 *
SAMPLES_AND_LINES 6151 7561 *
HORIZONTAL_DATUM NAD83 *
HORIZONTAL_COORDINATE_SYSTEM UTM *
COORDINATE_ZONE 10 *
HORIZONTAL_UNITS METERS *
HORIZONTAL_RESOLUTION 1.0 *
SECONDARY_HORIZONTAL_DATUM NAD27 *
XY_ORIGIN 499600.000 4268540.000 *
SECONDARY_XY_ORIGIN 499696.759 4268342.740 *
NATION US *
STATE CA *
NW_QUAD_CORNER_XY 500000.000 4268228.561 *
NE_QUAD_CORNER_XY 505445.155 4268230.413 *
SE_QUAD_CORNER_XY 505449.867 4261295.277 *
SW_QUAD_CORNER_XY 500000.000 4261293.427 *
SECONDARY_NW_QUAD_XY 500000.000 4268021.573 *
SECONDARY_NE_QUAD_XY 505445.293 4268023.424 *
SECONDARY_SE_QUAD_XY 505450.005 4261088.431 *
SECONDARY_SW_QUAD_XY 500000.000 4261086.581 *
RMSE_XY 3.179 *
IMAGE_SOURCE "Black and White film" *
SOURCE_IMAGE_ID "NAPP 6365-2" *
SOURCE_IMAGE_DATE 1993 8 25 *
SOURCE_DEM_DATE 1993 1 1 *
AGENCY "WESTERN MAPPING CENTER (WMC)" *
PRODUCER "Hammon, Jensen, Wallen & Associates" *
PRODUCTION_SYSTEM "ORTHOVIEW" *
STANDARD_VERSION 1996 12 *
METADATA_DATE 1997 11 4 *
DATA_FILE_SIZE 46513862 *
BYTE_COUNT 6151 * * * * * * * * * * * * * * * * * * * * * * * * * * * * * * * * * *
END_USGS_HEADER *
