1.0000000000
0.0000000000
0.0000000000
-1.0000000000
581070.5000000000
4289809.5000000000
