1.0000000000
0.0000000000
0.0000000000
-1.0000000000
575639.5000000000
4289751.5000000000
