BEGIN_USGS_DOQ_HEADER *
QUADRANGLE_NAME "ESPARTO" 3.45 or 7.5-min. name*
QUADRANT NW quadrant indicator if cell size = 3.75-minutes*
WEST_LONGITUDE -122 7 30.000 signed deg min sec SDDD MM SS.SSS*
EAST_LONGITUDE -122 3 45.000 signed deg min sec SDDD MM SS.SSS*
NORTH_LATITUDE 38 45 0.000 signed deg min sec SDDD MM SS.SSS*
SOUTH_LATITUDE 38 41 15.000 signed deg min sec SDDD MM SS.SSS*
PRODUCTION_DATE 1998 8 6 yyyy mm dd*
RASTER_ORDER LEFT_RIGHT/TOP_BOTTOM video display order*
BAND_ORGANIZATION "SINGLE FILE" single file or BSQ, or BIL or BIP*
BAND_CONTENT BLACK&WHITE black&white or red green blue*
BITS_PER_PIXEL 8 radiometric resolution*
SAMPLES_AND_LINES 6199 7604 number of columns and rows*
HORIZONTAL_DATUM NAD83 primary horizontal datum*
HORIZONTAL_COORDINATE_SYSTEM UTM *
COORDINATE_ZONE 10 coordinate system zone number*
HORIZONTAL_UNITS METERS coordinate system units*
HORIZONTAL_RESOLUTION 1.00 pixel horiz. ground sample distance*
SECONDARY_HORIZONTAL_DATUM NAD27 secondary horizontal datum*
XY_ORIGIN 575639.000 4289752.000 coord. of upper left pixel pri. datum*
SECONDARY_XY_ORIGIN 575735.066 4289556.283 coord upper left pixel sec datum*
NATION US nation code*
STATE CA state fip code*
NW_QUAD_CORNER_XY 576034.335 4289397.827 XY coords. of pri. NW quad corner*
NE_QUAD_CORNER_XY 581465.462 4289451.601 XY coords. of pri. NE quad corner*
SE_QUAD_CORNER_XY 581536.451 4282516.040 XY coords. of pri. SE quad corner*
SW_QUAD_CORNER_XY 576100.591 4282462.292 XY coords. of pri. SW quad corner*
SECONDARY_NW_QUAD_XY 576036.272 4289190.425 XY coords. - sec. NW quad cor.*
SECONDARY_NE_QUAD_XY 581467.537 4289244.201 XY coords. - sec. NE quad cor.*
SECONDARY_SE_QUAD_XY 581538.525 4282308.779 XY coords. - sec. SE quad cor.*
SECONDARY_SW_QUAD_XY 576102.526 4282255.030 XY coords. - sec. SW quad cor.*
RMSE_XY 1.70 doq horiz. accuracy*
IMAGE_SOURCE "BLACK AND WHITE FILM" b&w, cir, natural color, other*
SOURCE_IMAGE_ID "NAPP 6358 096" source image id*
SOURCE_IMAGE_DATE 1993 06 16 source image date as yyyy mm dd*
IMAGE_SOURCE "BLACK AND WHITE FILM" b&w, cir, natural color, other*
SOURCE_IMAGE_ID "NAPP 6358 183" source image id*
SOURCE_IMAGE_DATE 1993 06 16 source image date as yyyy mm dd*
IMAGE_SOURCE "BLACK AND WHITE FILM" b&w, cir, natural color, other*
SOURCE_IMAGE_ID "NAPP 6358 098" source image id*
SOURCE_IMAGE_DATE 1993 06 16 source image date as yyyy mm dd*
IMAGE_SOURCE "BLACK AND WHITE FILM" b&w, cir, natural color, other*
SOURCE_IMAGE_ID "NAPP 6358 097" source image id*
SOURCE_IMAGE_DATE 1993 06 16 source image date as yyyy mm dd*
IMAGE_SOURCE "BLACK AND WHITE FILM" b&w, cir, natural color, other*
SOURCE_IMAGE_ID "NAPP 6358 045" source image id*
SOURCE_IMAGE_DATE 1993 06 16 source image date as yyyy mm dd*
SOURCE_DEM_DATE 1993 00 00 source dem date yyyy mm dd*
AGENCY "WESTERN MAPPING CENTER (WMC)" oversight agency*
PRODUCER "SCIENCE APPLICATIONS INTERNATIONAL" producer/contractor*
PRODUCTION_SYSTEM "GIS/MAGIC" production system*
STANDARD_VERSION 1996 12 version of DOQ standard*
METADATA_DATE 1998 08 24 date created or changed, yyyy mm dd*
DATA_FILE_SIZE 47143395 data set size in bytes*
BYTE_COUNT 6199 header byte count* * * * * * * * * * * * * * * * * * * * * * *
END_USGS_HEADER *
