1.0000000000
0.0000000000
0.0000000000
-1.0000000000
570207.5000000000
4289697.5000000000
