1.0000000000
0.0000000000
0.0000000000
-1.0000000000
570269.5000000000
4282762.5000000000
