BEGIN_USGS_DOQ_HEADER *
QUADRANGLE_NAME "BROOKS" 3.45 or 7.5-min. name*
QUADRANT SW quadrant indicator if cell size = 3.75-minutes*
WEST_LONGITUDE -122 15 0.000 signed deg min sec SDDD MM SS.SSS*
EAST_LONGITUDE -122 11 15.000 signed deg min sec SDDD MM SS.SSS*
NORTH_LATITUDE 38 41 15.000 signed deg min sec SDDD MM SS.SSS*
SOUTH_LATITUDE 38 37 30.000 signed deg min sec SDDD MM SS.SSS*
PRODUCTION_DATE 1998 8 6 yyyy mm dd*
RASTER_ORDER LEFT_RIGHT/TOP_BOTTOM video display order*
BAND_ORGANIZATION "SINGLE FILE" single file or BSQ, or BIL or BIP*
BAND_CONTENT BLACK&WHITE black&white or red green blue*
BITS_PER_PIXEL 8 radiometric resolution*
SAMPLES_AND_LINES 6195 7596 number of columns and rows*
HORIZONTAL_DATUM NAD83 primary horizontal datum*
HORIZONTAL_COORDINATE_SYSTEM UTM *
COORDINATE_ZONE 10 coordinate system zone number*
HORIZONTAL_UNITS METERS coordinate system units*
HORIZONTAL_RESOLUTION 1.00 pixel horiz. ground sample distance*
SECONDARY_HORIZONTAL_DATUM NAD27 secondary horizontal datum*
XY_ORIGIN 564833.000 4282713.000 coord. of upper left pixel pri. datum*
SECONDARY_XY_ORIGIN 564929.153 4282517.116 coord upper left pixel sec datum*
NATION US nation code*
STATE CA state fip code*
NW_QUAD_CORNER_XY 565228.929 4282365.919 XY coords. of pri. NW quad corner*
NE_QUAD_CORNER_XY 570664.751 4282412.252 XY coords. of pri. NE quad corner*
SE_QUAD_CORNER_XY 570726.189 4275476.814 XY coords. of pri. SE quad corner*
SW_QUAD_CORNER_XY 565285.641 4275430.504 XY coords. of pri. SW quad corner*
SECONDARY_NW_QUAD_XY 565230.588 4282158.654 XY coords. - sec. NW quad cor.*
SECONDARY_NE_QUAD_XY 570666.548 4282204.988 XY coords. - sec. NE quad cor.*
SECONDARY_SE_QUAD_XY 570727.985 4275269.691 XY coords. - sec. SE quad cor.*
SECONDARY_SW_QUAD_XY 565287.298 4275223.380 XY coords. - sec. SW quad cor.*
RMSE_XY 2.10 doq horiz. accuracy*
IMAGE_SOURCE "BLACK AND WHITE FILM" b&w, cir, natural color, other*
SOURCE_IMAGE_ID "NAPP 6358 188" source image id*
SOURCE_IMAGE_DATE 1993 06 16 source image date as yyyy mm dd*
IMAGE_SOURCE "BLACK AND WHITE FILM" b&w, cir, natural color, other*
SOURCE_IMAGE_ID "NAPP 6359 136" source image id*
SOURCE_IMAGE_DATE 1993 07 06 source image date as yyyy mm dd*
IMAGE_SOURCE "BLACK AND WHITE FILM" b&w, cir, natural color, other*
SOURCE_IMAGE_ID "NAPP 6359 138" source image id*
SOURCE_IMAGE_DATE 1993 07 06 source image date as yyyy mm dd*
IMAGE_SOURCE "BLACK AND WHITE FILM" b&w, cir, natural color, other*
SOURCE_IMAGE_ID "NAPP 6359 055" source image id*
SOURCE_IMAGE_DATE 1993 07 06 source image date as yyyy mm dd*
IMAGE_SOURCE "BLACK AND WHITE FILM" b&w, cir, natural color, other*
SOURCE_IMAGE_ID "NAPP 6359 054" source image id*
SOURCE_IMAGE_DATE 1993 07 06 source image date as yyyy mm dd*
IMAGE_SOURCE "BLACK AND WHITE FILM" b&w, cir, natural color, other*
SOURCE_IMAGE_ID "NAPP 6358 181" source image id*
SOURCE_IMAGE_DATE 1993 06 16 source image date as yyyy mm dd*
SOURCE_DEM_DATE 1992 00 00 source dem date yyyy mm dd*
AGENCY "WESTERN MAPPING CENTER (WMC)" oversight agency*
PRODUCER "SCIENCE APPLICATIONS INTERNATIONAL" producer/contractor*
PRODUCTION_SYSTEM "GIS/MAGIC" production system*
STANDARD_VERSION 1996 12 version of DOQ standard*
METADATA_DATE 1998 08 21 date created or changed, yyyy mm dd*
DATA_FILE_SIZE 47063415 data set size in bytes*
BYTE_COUNT 6195 header byte count* * * * * * * * * * * * * * * * * * * *
END_USGS_HEADER *
