1.0000000000
0.0000000000
0.0000000000
-1.0000000000
537620.5000000000
4289453.5000000000
