1.0000000000
0.0000000000
0.0000000000
-1.0000000000
537653.5000000000
4282517.5000000000
