1.0000000000
0.0000000000
0.0000000000
-1.0000000000
532210.5000000000
4282489.5000000000
