BEGIN_USGS_DOQ_HEADER *
QUADRANGLE_NAME "DETERT RESERVOIR" *
QUADRANT SW *
WEST_LONGITUDE -122 37 30.0 *
EAST_LONGITUDE -122 33 45.0 *
NORTH_LATITUDE 38 41 15.0 *
SOUTH_LATITUDE 38 37 30.0 *
PRODUCTION_DATE 1997 11 4 *
RASTER_ORDER LEFT_RIGHT/TOP_BOTTOM *
BAND_ORGANIZATION "SINGLE FILE" *
BAND_CONTENT BLACK&WHITE *
BITS_PER_PIXEL 8 *
SAMPLES_AND_LINES 6181 7581 *
HORIZONTAL_DATUM NAD83 *
HORIZONTAL_COORDINATE_SYSTEM UTM *
COORDINATE_ZONE 10 *
HORIZONTAL_UNITS METERS *
HORIZONTAL_RESOLUTION 1.0 *
SECONDARY_HORIZONTAL_DATUM NAD27 *
XY_ORIGIN 532210.000 4282490.000 *
SECONDARY_XY_ORIGIN 532306.157 4282293.542 *
NATION US *
STATE CA *
NW_QUAD_CORNER_XY 532614.310 4282165.767 *
NE_QUAD_CORNER_XY 538050.050 4282189.859 *
SE_QUAD_CORNER_XY 538083.130 4275254.531 *
SW_QUAD_CORNER_XY 532642.664 4275230.452 *
SECONDARY_NW_QUAD_XY 532615.140 4281958.498 *
SECONDARY_NE_QUAD_XY 538051.018 4281982.590 *
SECONDARY_SE_QUAD_XY 538084.097 4275047.403 *
SECONDARY_SW_QUAD_XY 532643.493 4275023.323 *
RMSE_XY 3.550 *
IMAGE_SOURCE "Black and White film" *
SOURCE_IMAGE_ID "NAPP 6361-113" *
SOURCE_IMAGE_DATE 1993 7 10 *
SOURCE_DEM_DATE 1993 1 1 *
AGENCY "WESTERN MAPPING CENTER (WMC)" *
PRODUCER "Hammon, Jensen, Wallen & Associates" *
PRODUCTION_SYSTEM "ORTHOVIEW" *
STANDARD_VERSION 1996 12 *
METADATA_DATE 1997 11 4 *
DATA_FILE_SIZE 46864342 *
BYTE_COUNT 6181 * * * * * * * * * * * * * * * * * * * * * * * * * * * * * * * * * * *
END_USGS_HEADER *
