1.0000000000
0.0000000000
0.0000000000
-1.0000000000
526750.5000000000
4289409.5000000000
