BEGIN_USGS_DOQ_HEADER *
QUADRANGLE_NAME "MOUNT SAINT HELENA" *
QUADRANT NE *
WEST_LONGITUDE -122 41 15.0 *
EAST_LONGITUDE -122 37 30.0 *
NORTH_LATITUDE 38 45 0.0 *
SOUTH_LATITUDE 38 41 15.0 *
PRODUCTION_DATE 1997 11 4 *
RASTER_ORDER LEFT_RIGHT/TOP_BOTTOM *
BAND_ORGANIZATION "SINGLE FILE" *
BAND_CONTENT BLACK&WHITE *
BITS_PER_PIXEL 8 *
SAMPLES_AND_LINES 6171 7581 *
HORIZONTAL_DATUM NAD83 *
HORIZONTAL_COORDINATE_SYSTEM UTM *
COORDINATE_ZONE 10 *
HORIZONTAL_UNITS METERS *
HORIZONTAL_RESOLUTION 1.0 *
SECONDARY_HORIZONTAL_DATUM NAD27 *
XY_ORIGIN 526750.000 4289410.000 *
SECONDARY_XY_ORIGIN 526846.219 4289213.351 *
NATION US *
STATE CA *
NW_QUAD_CORNER_XY 527154.918 4289080.762 *
NE_QUAD_CORNER_XY 532585.917 4289101.157 *
SE_QUAD_CORNER_XY 532614.310 4282165.767 *
SW_QUAD_CORNER_XY 527178.579 4282145.382 *
SECONDARY_NW_QUAD_XY 527155.610 4288873.352 *
SECONDARY_NE_QUAD_XY 532586.747 4288893.748 *
SECONDARY_SE_QUAD_XY 532615.140 4281958.498 *
SECONDARY_SW_QUAD_XY 527179.270 4281938.112 *
RMSE_XY 2.126 *
IMAGE_SOURCE "Black and White film" *
SOURCE_IMAGE_ID "NAPP 6361-41" *
SOURCE_IMAGE_DATE 1993 7 10 *
SOURCE_DEM_DATE 1957 1 1 *
AGENCY "WESTERN MAPPING CENTER (WMC)" *
PRODUCER "Hammon, Jensen, Wallen & Associates" *
PRODUCTION_SYSTEM "ORTHOVIEW" *
STANDARD_VERSION 1996 12 *
METADATA_DATE 1997 11 4 *
DATA_FILE_SIZE 46788522 *
BYTE_COUNT 6171 * * * * * * * * * * * * * * * * * * * * * * * * * * * * * * * * * * *
END_USGS_HEADER *
