1.0000000000
0.0000000000
0.0000000000
-1.0000000000
521320.5000000000
4289389.5000000000
