1.0000000000
0.0000000000
0.0000000000
-1.0000000000
526780.5000000000
4282469.5000000000
