1.0000000000
0.0000000000
0.0000000000
-1.0000000000
521340.5000000000
4282449.5000000000
