1.0000000000
0.0000000000
0.0000000000
-1.0000000000
515890.5000000000
4289369.5000000000
