BEGIN_USGS_DOQ_HEADER *
QUADRANGLE_NAME "JIMTOWN" *
QUADRANT SE *
WEST_LONGITUDE -122 48 45.0 *
EAST_LONGITUDE -122 45 0.0 *
NORTH_LATITUDE 38 41 15.0 *
SOUTH_LATITUDE 38 37 30.0 *
PRODUCTION_DATE 1997 11 4 *
RASTER_ORDER LEFT_RIGHT/TOP_BOTTOM *
BAND_ORGANIZATION "SINGLE FILE" *
BAND_CONTENT BLACK&WHITE *
BITS_PER_PIXEL 8 *
SAMPLES_AND_LINES 6161 7561 *
HORIZONTAL_DATUM NAD83 *
HORIZONTAL_COORDINATE_SYSTEM UTM *
COORDINATE_ZONE 10 *
HORIZONTAL_UNITS METERS *
HORIZONTAL_RESOLUTION 1.0 *
SECONDARY_HORIZONTAL_DATUM NAD27 *
XY_ORIGIN 515910.000 4282430.000 *
SECONDARY_XY_ORIGIN 516006.411 4282233.060 *
NATION US *
STATE CA *
NW_QUAD_CORNER_XY 516307.136 4282115.731 *
NE_QUAD_CORNER_XY 521742.854 4282128.704 *
SE_QUAD_CORNER_XY 521761.757 4275193.406 *
SW_QUAD_CORNER_XY 516321.313 4275180.440 *
SECONDARY_NW_QUAD_XY 516307.551 4281908.461 *
SECONDARY_NE_QUAD_XY 521743.407 4281921.433 *
SECONDARY_SE_QUAD_XY 521762.310 4274986.277 *
SECONDARY_SW_QUAD_XY 516321.727 4274973.310 *
RMSE_XY 2.066 *
IMAGE_SOURCE "Black and White film" *
SOURCE_IMAGE_ID "NAPP 6361-226" *
SOURCE_IMAGE_DATE 1993 7 11 *
SOURCE_DEM_DATE 1983 7 3 *
AGENCY "WESTERN MAPPING CENTER (WMC)" *
PRODUCER "Hammon, Jensen, Wallen & Associates" *
PRODUCTION_SYSTEM "ORTHOVIEW" *
STANDARD_VERSION 1996 12 *
METADATA_DATE 1997 11 4 *
DATA_FILE_SIZE 46589482 *
BYTE_COUNT 6161 * * * * * * * * * * * * * * * * * * * * * * * * * * * * * * * * * *
END_USGS_HEADER *
