BEGIN_USGS_DOQ_HEADER *
QUADRANGLE_NAME "JIMTOWN" *
QUADRANT SW *
WEST_LONGITUDE -122 52 30.0 *
EAST_LONGITUDE -122 48 45.0 *
NORTH_LATITUDE 38 41 15.0 *
SOUTH_LATITUDE 38 37 30.0 *
PRODUCTION_DATE 1997 9 16 *
RASTER_ORDER LEFT_RIGHT/TOP_BOTTOM *
BAND_ORGANIZATION "SINGLE FILE" *
BAND_CONTENT BLACK&WHITE *
BITS_PER_PIXEL 8 *
SAMPLES_AND_LINES 6161 7561 *
HORIZONTAL_DATUM NAD83 *
HORIZONTAL_COORDINATE_SYSTEM UTM *
COORDINATE_ZONE 10 *
HORIZONTAL_UNITS METERS *
HORIZONTAL_RESOLUTION 1.0 *
SECONDARY_HORIZONTAL_DATUM NAD27 *
XY_ORIGIN 510470.000 4282420.000 *
SECONDARY_XY_ORIGIN 510566.484 4282222.924 *
NATION US *
STATE CA *
NW_QUAD_CORNER_XY 510871.422 4282106.466 *
NE_QUAD_CORNER_XY 516307.136 4282115.731 *
SE_QUAD_CORNER_XY 516321.313 4275180.440 *
SW_QUAD_CORNER_XY 510880.873 4275171.179 *
SECONDARY_NW_QUAD_XY 510871.698 4281899.195 *
SECONDARY_NE_QUAD_XY 516307.551 4281908.461 *
SECONDARY_SE_QUAD_XY 516321.727 4274973.310 *
SECONDARY_SW_QUAD_XY 510881.149 4274964.049 *
RMSE_XY 1.867 *
IMAGE_SOURCE "Black and White film" *
SOURCE_IMAGE_ID "NAPP 6362-28" *
SOURCE_IMAGE_DATE 1993 7 11 *
SOURCE_DEM_DATE 1983 7 3 *
AGENCY "WESTERN MAPPING CENTER (WMC)" *
PRODUCER "Hammon, Jensen, Wallen & Associates" *
PRODUCTION_SYSTEM "ORTHOVIEW" *
STANDARD_VERSION 1996 12 *
METADATA_DATE 1997 9 16 *
DATA_FILE_SIZE 46589482 *
BYTE_COUNT 6161 * * * * * * * * * * * * * * * * * * * * * * * * * * * * * * * * * *
END_USGS_HEADER *
