BEGIN_USGS_DOQ_HEADER *
QUADRANGLE_NAME "GEYSERVILLE" *
QUADRANT NE *
WEST_LONGITUDE -122 56 15.0 *
EAST_LONGITUDE -122 52 30.0 *
NORTH_LATITUDE 38 45 0.0 *
SOUTH_LATITUDE 38 41 15.0 *
PRODUCTION_DATE 1997 9 16 *
RASTER_ORDER LEFT_RIGHT/TOP_BOTTOM *
BAND_ORGANIZATION "SINGLE FILE" *
BAND_CONTENT BLACK&WHITE *
BITS_PER_PIXEL 8 *
SAMPLES_AND_LINES 6151 7561 *
HORIZONTAL_DATUM NAD83 *
HORIZONTAL_COORDINATE_SYSTEM UTM *
COORDINATE_ZONE 10 *
HORIZONTAL_UNITS METERS *
HORIZONTAL_RESOLUTION 1.0 *
SECONDARY_HORIZONTAL_DATUM NAD27 *
XY_ORIGIN 505030.000 4289350.000 *
SECONDARY_XY_ORIGIN 505126.505 4289152.756 *
NATION US *
STATE CA *
NW_QUAD_CORNER_XY 505430.978 4289036.264 *
NE_QUAD_CORNER_XY 510861.957 4289041.826 *
SE_QUAD_CORNER_XY 510871.422 4282106.466 *
SW_QUAD_CORNER_XY 505435.710 4282100.906 *
SECONDARY_NW_QUAD_XY 505431.116 4288828.853 *
SECONDARY_NE_QUAD_XY 510862.234 4288834.415 *
SECONDARY_SE_QUAD_XY 510871.698 4281899.195 *
SECONDARY_SW_QUAD_XY 505435.848 4281893.635 *
RMSE_XY 1.705 *
IMAGE_SOURCE "Black and White film" *
SOURCE_IMAGE_ID "NAPP 6362-49" *
SOURCE_IMAGE_DATE 1993 7 11 *
SOURCE_DEM_DATE 1993 1 1 *
AGENCY "WESTERN MAPPING CENTER (WMC)" *
PRODUCER "Hammon, Jensen, Wallen & Associates" *
PRODUCTION_SYSTEM "ORTHOVIEW" *
STANDARD_VERSION 1996 12 *
METADATA_DATE 1997 9 16 *
DATA_FILE_SIZE 46513862 *
BYTE_COUNT 6151 * * * * * * * * * * * * * * * * * * * * * * * * * * * * * * * * * *
END_USGS_HEADER *
