1.0000000000
0.0000000000
0.0000000000
-1.0000000000
505030.5000000000
4282409.5000000000
