1.0000000000
0.0000000000
0.0000000000
-1.0000000000
580928.5000000000
4303680.5000000000
