1.0000000000
0.0000000000
0.0000000000
-1.0000000000
575507.5000000000
4303623.5000000000
