BEGIN_USGS_DOQ_HEADER *
QUADRANGLE_NAME "BIRD VALLEY" 3.45 or 7.5-min. name*
QUADRANT NW quadrant indicator if cell size = 3.75-minutes*
WEST_LONGITUDE -122 7 30.000 signed deg min sec SDDD MM SS.SSS*
EAST_LONGITUDE -122 3 45.000 signed deg min sec SDDD MM SS.SSS*
NORTH_LATITUDE 38 52 30.000 signed deg min sec SDDD MM SS.SSS*
SOUTH_LATITUDE 38 48 45.000 signed deg min sec SDDD MM SS.SSS*
PRODUCTION_DATE 1999 9 29 yyyy mm dd*
RASTER_ORDER LEFT_RIGHT/TOP_BOTTOM video display order*
BAND_ORGANIZATION "SINGLE FILE" single file or BSQ, or BIL or BIP*
BAND_CONTENT BLACK&WHITE black&white or red green blue*
BITS_PER_PIXEL 8 radiometric resolution*
SAMPLES_AND_LINES 6188 7604 number of columns and rows*
HORIZONTAL_DATUM NAD83 primary horizontal datum*
HORIZONTAL_COORDINATE_SYSTEM UTM *
COORDINATE_ZONE 10 coordinate system zone number*
HORIZONTAL_UNITS METERS coordinate system units*
HORIZONTAL_RESOLUTION 1.00 pixel horiz. ground sample distance*
SECONDARY_HORIZONTAL_DATUM NAD27 secondary horizontal datum*
XY_ORIGIN 575507.000 4303624.000 coord. of upper left pixel pri. datum*
SECONDARY_XY_ORIGIN 575602.800 4303428.368 coord upper left pixel sec datum*
NATION US nation code*
STATE CA state fip code*
NW_QUAD_CORNER_XY 575901.551 4303269.115 XY coords. of pri. NW quad corner*
NE_QUAD_CORNER_XY 581323.190 4303322.941 XY coords. of pri. NE quad corner*
SE_QUAD_CORNER_XY 581394.375 4296387.235 XY coords. of pri. SE quad corner*
SW_QUAD_CORNER_XY 575967.988 4296333.435 XY coords. of pri. SW quad corner*
SECONDARY_NW_QUAD_XY 575903.490 4303061.436 XY coords. - sec. NW quad cor.*
SECONDARY_NE_QUAD_XY 581325.268 4303115.263 XY coords. - sec. NE quad cor.*
SECONDARY_SE_QUAD_XY 581396.451 4296179.695 XY coords. - sec. SE quad cor.*
SECONDARY_SW_QUAD_XY 575969.926 4296125.894 XY coords. - sec. SW quad cor.*
RMSE_XY 1.80 doq horiz. accuracy*
IMAGE_SOURCE "BLACK AND WHITE FILM" b&w, cir, natural color, other*
SOURCE_IMAGE_ID "NAPP 6358 92" source image id*
SOURCE_IMAGE_DATE 1993 6 16 source image date as yyyy mm dd*
SOURCE_DEM_DATE 1999 9 29 source dem date yyyy mm dd*
AGENCY "WESTERN MAPPING CENTER (WMC)" oversight agency*
PRODUCER "WESTERN MAPPING CENTER (WMC)" *
PRODUCTION_SYSTEM "DV2.6.3 10/9OV2.4 5/95" production system*
STANDARD_VERSION 1996 12 version of DOQ standard*
METADATA_DATE 1999 10 8 date created or changed, yyyy mm dd*
DATA_FILE_SIZE 47059740 data set size in bytes*
BYTE_COUNT 6188 header byte count* * * * * * * * * * * * * * * * * * * * * * * * * * * * * * * * * * *
END_USGS_HEADER *
