1.0000000000
0.0000000000
0.0000000000
-1.0000000000
581000.5000000000
4296745.5000000000
