1.0000000000
0.0000000000
0.0000000000
-1.0000000000
575573.5000000000
4296687.5000000000
