1.0000000000
0.0000000000
0.0000000000
-1.0000000000
570084.5000000000
4303569.5000000000
